BEGIN:VCALENDAR
VERSION:2.0
PRODID:-//wp-events-plugin.com//7.2.3.1//EN
BEGIN:VEVENT
UID:18@lakeshoreacademy.com
DTSTART:20260213T173000Z
DTEND:20260213T203000Z
DTSTAMP:20260204T214240Z
URL:https://lakeshoreacademy.com/events/valentines-day-kids-night-out/
SUMMARY:Valentine's Day Kids Night Out
DESCRIPTION:Join us for games\, movie\, crafts\, and an ice cream bar!\n\nA
 ll participants must have a valid family membership.
ATTACH;FMTTYPE=image/jpeg:https://lakeshoreacademy.com/wp-content/uploads/
 2026/02/624605823_18333986524300800_7311238979538710568_n.jpg
LOCATION:Glenview\, 1870 Elmdale Ave\, Glenview\, IL\, 60026\, United State
 s
X-APPLE-STRUCTURED-LOCATION;VALUE=URI;X-ADDRESS=1870 Elmdale Ave\, Glenview
 \, IL\, 60026\, United States;X-APPLE-RADIUS=100;X-TITLE=Glenview:geo:0,0
END:VEVENT
END:VCALENDAR